BEGIN:VCALENDAR
VERSION:2.0
PRODID:-//Latvijas Kjokušinkai Karatē Do Federācija - ECPv6.15.20//NONSGML v1.0//EN
CALSCALE:GREGORIAN
METHOD:PUBLISH
X-WR-CALNAME:Latvijas Kjokušinkai Karatē Do Federācija
X-ORIGINAL-URL:https://kyokushinkai.lv
X-WR-CALDESC:Events for Latvijas Kjokušinkai Karatē Do Federācija
REFRESH-INTERVAL;VALUE=DURATION:PT1H
X-Robots-Tag:noindex
X-PUBLISHED-TTL:PT1H
BEGIN:VTIMEZONE
TZID:UTC
BEGIN:STANDARD
TZOFFSETFROM:+0000
TZOFFSETTO:+0000
TZNAME:UTC
DTSTART:20240101T000000
END:STANDARD
END:VTIMEZONE
BEGIN:VEVENT
DTSTART;VALUE=DATE:20250201
DTEND;VALUE=DATE:20250202
DTSTAMP:20260420T210053
CREATED:20250109T095809Z
LAST-MODIFIED:20250109T100240Z
UID:2828-1738368000-1738454399@kyokushinkai.lv
SUMMARY:Žemaitijas kauss 2024
DESCRIPTION:
URL:https://kyokushinkai.lv/pasakums/zemaitijas-kauss-2024/
LOCATION:Šauļu tehnoloģiju mācību centrs\, Kuršēnu nodaļa (Lietuva)\, Daugėlių g. 17\, Kuršėnai\, 81130
ATTACH;FMTTYPE=image/png:https://kyokushinkai.lv/wp-content/uploads/2025/01/Zemaitijas-kauss.png
ORGANIZER;CN="SK DAO (Lietuva)":MAILTO:infoskdao@gmail.com
END:VEVENT
END:VCALENDAR