BEGIN:VCALENDAR
VERSION:2.0
PRODID:-//Latvijas Kjokušinkai Karatē Do Federācija - ECPv6.15.20//NONSGML v1.0//EN
CALSCALE:GREGORIAN
METHOD:PUBLISH
X-WR-CALNAME:Latvijas Kjokušinkai Karatē Do Federācija
X-ORIGINAL-URL:https://kyokushinkai.lv
X-WR-CALDESC:Events for Latvijas Kjokušinkai Karatē Do Federācija
REFRESH-INTERVAL;VALUE=DURATION:PT1H
X-Robots-Tag:noindex
X-PUBLISHED-TTL:PT1H
BEGIN:VTIMEZONE
TZID:UTC
BEGIN:STANDARD
TZOFFSETFROM:+0000
TZOFFSETTO:+0000
TZNAME:UTC
DTSTART:20240101T000000
END:STANDARD
END:VTIMEZONE
BEGIN:VEVENT
DTSTART;VALUE=DATE:20250727
DTEND;VALUE=DATE:20250809
DTSTAMP:20260420T150712
CREATED:20241228T090746Z
LAST-MODIFIED:20250715T113629Z
UID:2682-1753574400-1754697599@kyokushinkai.lv
SUMMARY:Lietuvas federācijas vasaras nometne un melno jostu eksāmens 2025
DESCRIPTION:Nometnes laikā notiek Lietuvas Kjokušinkai karatē federācijas rīkota oficialā Eiropas Karatē Organizācijas eksamens no 1. līdz 4. danu pakāpēm\, uz kuru aicināti visi interesenti\, kuriem ir ienācis attiecīgais eksamenācijas laiks.
URL:https://kyokushinkai.lv/pasakums/lietuvas-federacijas-vasaras-nometne-un-melno-jostu-eksamens-2025/
LOCATION:Raganė (Lietuva)\, Monciškės g. 28A\, Palanga\, Palangos m. sav.\, 00167\, Lietuva
ATTACH;FMTTYPE=image/jpeg:https://kyokushinkai.lv/wp-content/uploads/2024/12/WhatsApp-Image-2025-07-15-at-17.28.49.jpeg
ORGANIZER;CN="Lietuvas Kjoku%C5%A1inkai karat%C4%93 feder%C4%81cija":MAILTO:info@kyokushin.lt
END:VEVENT
END:VCALENDAR