BEGIN:VCALENDAR
VERSION:2.0
PRODID:-//Latvijas Kjokušinkai Karatē Do Federācija - ECPv6.15.20//NONSGML v1.0//EN
CALSCALE:GREGORIAN
METHOD:PUBLISH
X-WR-CALNAME:Latvijas Kjokušinkai Karatē Do Federācija
X-ORIGINAL-URL:https://kyokushinkai.lv
X-WR-CALDESC:Events for Latvijas Kjokušinkai Karatē Do Federācija
REFRESH-INTERVAL;VALUE=DURATION:PT1H
X-Robots-Tag:noindex
X-PUBLISHED-TTL:PT1H
BEGIN:VTIMEZONE
TZID:UTC
BEGIN:STANDARD
TZOFFSETFROM:+0000
TZOFFSETTO:+0000
TZNAME:UTC
DTSTART:20250101T000000
END:STANDARD
END:VTIMEZONE
BEGIN:VEVENT
DTSTART;VALUE=DATE:20260322
DTEND;VALUE=DATE:20260323
DTSTAMP:20260420T150743
CREATED:20251222T083914Z
LAST-MODIFIED:20251222T083914Z
UID:4452-1774137600-1774223999@kyokushinkai.lv
SUMMARY:Let's Join The Fight Together 2026
DESCRIPTION:
URL:https://kyokushinkai.lv/pasakums/lets-join-the-fight-together-2026/
LOCATION:Kauņas sporta halle (Lietuva)\, Perkūno al. 5\, Kaunas\, Lietuva
ATTACH;FMTTYPE=image/png:https://kyokushinkai.lv/wp-content/uploads/2025/12/c2757040-dc0c-11f0-8025-9703bcc1603c.png
ORGANIZER;CN="LET'S JOIN":MAILTO:ljonika@yahoo.com
END:VEVENT
END:VCALENDAR