BEGIN:VCALENDAR
VERSION:2.0
PRODID:-//Latvijas Kjokušinkai Karatē Do Federācija - ECPv6.15.20//NONSGML v1.0//EN
CALSCALE:GREGORIAN
METHOD:PUBLISH
X-WR-CALNAME:Latvijas Kjokušinkai Karatē Do Federācija
X-ORIGINAL-URL:https://kyokushinkai.lv
X-WR-CALDESC:Events for Latvijas Kjokušinkai Karatē Do Federācija
REFRESH-INTERVAL;VALUE=DURATION:PT1H
X-Robots-Tag:noindex
X-PUBLISHED-TTL:PT1H
BEGIN:VTIMEZONE
TZID:UTC
BEGIN:STANDARD
TZOFFSETFROM:+0000
TZOFFSETTO:+0000
TZNAME:UTC
DTSTART:20240101T000000
END:STANDARD
END:VTIMEZONE
BEGIN:VEVENT
DTSTART;VALUE=DATE:20250321
DTEND;VALUE=DATE:20250324
DTSTAMP:20260420T164452
CREATED:20241228T084848Z
LAST-MODIFIED:20241228T104105Z
UID:2674-1742515200-1742774399@kyokushinkai.lv
SUMMARY:EKO Melno jostu seminārs 2025
DESCRIPTION:
URL:https://kyokushinkai.lv/pasakums/eko-melno-jostu-seminars-2025/
LOCATION:Dojo Stara Wieś (Polja\, Stara Wieś 1\,\, Stara Wieś\, 97-570\, Poland
ATTACH;FMTTYPE=image/png:https://kyokushinkai.lv/wp-content/uploads/2024/01/eko.png
ORGANIZER;CN="EKO":MAILTO:ekosecretary@gmail.com
END:VEVENT
END:VCALENDAR